BEGIN:VCALENDAR
VERSION:2.0
PRODID:Events Booking
BEGIN:VEVENT
UID:69eb69f1d37b8
SUMMARY:Council Meeting
DESCRIPTION:
LOCATION:Moorend\, BS16 6NU England\, United Kingdom
DTSTART:20240118T190000Z
DTEND:20240118T210000Z
DTSTAMP:20240111T125945Z
ORGANIZER;CN=Downend & Bromley Heath Parish Council:MAILTO:clerk@dbhparishc
 ouncil.co.uk
GEO:51.499045;-2.496058
X-APPLE-STRUCTURED-LOCATION;VALUE=URI;X-ADDRESS=Moorend\, BS16 6NU England\
 , United Kingdom;X-APPLE-RADIUS=72;X-TITLE=Badminton Road Methodist Church
 :51.499045;-2.496058
END:VEVENT
END:VCALENDAR