BEGIN:VCALENDAR
VERSION:2.0
PRODID:Events Booking
BEGIN:VEVENT
UID:69ebd0b95476e
SUMMARY:Finance
DESCRIPTION:
LOCATION:King George V Pavilion Sutherland Avenue BS16 6QW
DTSTART:20230803T090000Z
DTEND:20230803T110000Z
DTSTAMP:20230717T192933Z
ORGANIZER;CN=Downend & Bromley Heath Parish Council:MAILTO:clerk@dbhparishc
 ouncil.co.uk
GEO:51.492607;-2.499451
X-APPLE-STRUCTURED-LOCATION;VALUE=URI;X-ADDRESS=King George V Pavilion Suth
 erland Avenue BS16 6QW;X-APPLE-RADIUS=72;X-TITLE=Parish Office:51.492607;-
 2.499451
END:VEVENT
END:VCALENDAR